BEGIN:VCALENDAR
VERSION:2.0
METHOD:PUBLISH
BEGIN:VEVENT
DTSTART;TZID=Asia/Tokyo:20260522T18300
DTEND;TZID=Asia/Tokyo:20260522T19300
SUMMARY:Web講演会 「第69回日本手外科学会学術集会 ランチョンセミナー11（録画配信）」 2026年5月22日 | 医療関係者向け情報サイト Hisamitsuサポートウェブ
LOCATION:
CATEGORIES:整形外科領域
DESCRIPTION:詳細はこちらをご覧ください。\r\n視聴ページ：https://www.hisamitsu-pharm.jp/seminar/detail/seminar503.html
DTSTAMP:202102
CLASS:PUBLIC
END:VEVENT
END:VCALENDAR
