BEGIN:VCALENDAR
VERSION:2.0
METHOD:PUBLISH
BEGIN:VEVENT
DTSTART;TZID=Asia/Tokyo:20260521T12200
DTEND;TZID=Asia/Tokyo:20260521T12500
SUMMARY:Web講演会 「Oral Care Web Seminar 多職種連携で実践する口腔ケア ～八戸市立市民病院の取り組み～」 2026年5月21日 | 医療関係者向け情報サイト Hisamitsuサポートウェブ
LOCATION:
CATEGORIES:口腔内感染症領域
DESCRIPTION:詳細はこちらをご覧ください。\r\n視聴ページ：https://www.hisamitsu-pharm.jp/seminar/detail/seminar499.html
DTSTAMP:202102
CLASS:PUBLIC
END:VEVENT
END:VCALENDAR
