BEGIN:VCALENDAR
VERSION:2.0
METHOD:PUBLISH
BEGIN:VEVENT
DTSTART;TZID=Asia/Tokyo:20260518T12300
DTEND;TZID=Asia/Tokyo:20260518T12450
SUMMARY:Web講演会 「ミニミニランチタイムセミナー」 2026年5月18日 | 医療関係者向け情報サイト Hisamitsuサポートウェブ
LOCATION:
CATEGORIES:整形外科領域
DESCRIPTION:詳細はこちらをご覧ください。\r\n視聴ページ：https://www.hisamitsu-pharm.jp/seminar/detail/seminar494.html
DTSTAMP:202102
CLASS:PUBLIC
END:VEVENT
END:VCALENDAR
